BEGIN:VCALENDAR
VERSION:2.0
METHOD:PUBLISH
BEGIN:VEVENT
DTSTART:20190302T093000
DTEND:20190302T100000
LOCATION:40 Arrabri Avenue Jindalee, QLD 4074
TRANSP: OPAQUE
SEQUENCE:0
UID:
DTSTAMP:20190227T050149Z
SUMMARY:Home Open - Incredible Potential!
DESCRIPTION:Set in the heart of Jindalee. This solid high set home located on a generous 606sqm block, with potential all round. 

Entertaining family and friends a breeze over the warmer season, the two-way kitchen is situated in the hub of the home, providing easy flow throughout, with serving windows out to the back patio, and overlooking the sparking inground pool, meaning you are never too far away from your guests. A fully fence backyard, provides plenty of room for pet or the growing family.

All bedrooms have built-in wardrobes and are serviced by a two-way family bathroom, which is connected to the master bedroom complete with walk-in robe and air-conditioning.  

Features:
- Three bedrooms
-  Two-way family bathroom
-  Single lock up garage 
- two living areas 
- High racked ceilings 
- Kitchen overlooking pool and back patio 
- Air-Conditioning 
- Fully fenced backyard
- Solar hot water 
- 606sqm block

The lucky new home owners will find themselves only minutes from the best Jindalee has to offer including; Jindalee boat ramp, Jindalee golf course, Jindalee Primary School, Centenary High School, parks, Jindalee Homemaker Centre, DFO, Piggy back caf&#xE9; and public transport.
PRIORITY:1
CLASS:PUBLIC
BEGIN:VALARM
TRIGGER:-PT10080M
ACTION:DISPLAY
DESCRIPTION:Reminder
END:VALARM
END:VEVENT
END:VCALENDAR
