BEGIN:VCALENDAR
VERSION:2.0
METHOD:PUBLISH
BEGIN:VEVENT
DTSTART:20190302T101500
DTEND:20190302T110000
LOCATION:21 Elinga Street Jindalee, QLD 4074
TRANSP: OPAQUE
SEQUENCE:0
UID:
DTSTAMP:20190227T050013Z
SUMMARY:Home Open - Mediterranean Living !
DESCRIPTION:Occupying 857 m2 of quiet, private, elevated  land, this well presented two story family home boasts a stylish Mediterranean feel with future potential.
First time to the market in 14 years, this Jindalee family home features separate living areas, with the kitchen at the rear of the home overlooking a private courtyard. 
Five spacious bedrooms provide accommodation to this property and are spilt over the two levels, master with his and her wardrobes and a full length balcony overlooking the front courtyard and beautiful in-ground pool. Stay warm this winter with your very own open fire that creates an amazing ambience while keeping you and your family cosy.

This property also offers:
&#x2022;	5 bedrooms with built-in wardrobes
&#x2022;	2 bathrooms
&#x2022;	Storage space in abundance 
&#x2022;	Multiple open plan living/dining 
&#x2022;	In-ground pool
&#x2022;	Entertainment area
&#x2022;	Courtyards 
&#x2022;	Air-conditioning
&#x2022;	Double carport
&#x2022;	857 m2 elevated private block
&#x2022;       European oven and cook-top (SMEG)
&#x2022;       Open fire place
&#x2022;       Solid brick workshop
&#x2022;       3000 litre water tank
&#x2022;       Study / home office

The lucky new home owners will find themselves only minutes from the best Jindalee has to offer including; Jindalee boat ramp, Jindalee golf course, Jindalee Primary School, Centenary High School, parks, Jindalee Homemaker Centre, DFO, Piggyback Caf&#xE9; and public transport.
PRIORITY:1
CLASS:PUBLIC
BEGIN:VALARM
TRIGGER:-PT10080M
ACTION:DISPLAY
DESCRIPTION:Reminder
END:VALARM
END:VEVENT
END:VCALENDAR
