BEGIN:VCALENDAR
VERSION:2.0
METHOD:PUBLISH
BEGIN:VEVENT
DTSTART:20190302T111500
DTEND:20190302T114500
LOCATION:5 Cooranga Street Jindalee, QLD 4074
TRANSP: OPAQUE
SEQUENCE:0
UID:
DTSTAMP:20190227T050229Z
SUMMARY:Home Open - Modern Family Living
DESCRIPTION:If you are looking for relaxation, privacy and lifestyle, then look no further. Positioned on an 802sqm block, this home has nothing left to do but move in and enjoy the Jindalee lifestyle. 

From the moment you walk in the front door you are taken back by the ambiance that greets you, with polished wooden floors, white crisp finishes, flow throughout this home. 
The heart of the home is the kitchen which overlooks the backyard and is sure to impress, complete with gas cooktop, caesarstone bench tops, storage in abundance and access to the outdoor entertainment area. 

Continuing through the home is a second living area featuring rake ceilings and natural lighting. Completing this modern home are four generous bedrooms, with fans, air-conditioning and built-in robes, family bathroom with separate toilet and master suit with newly appointed ensuite and standalone bath.   

Overall features include; 
-	Four bedrooms, main with ensuite
-	Two bathrooms
-	Multiple living and entertainment areas
-	Air-conditioning throughout
-	private, fully fenced yard
-       Study/Home office 
-	Modern Kitchen with gas cooktop
-       Single Carport
-	802sqm elevated block 

The lucky new home owners will find themselves only minutes from the Jindalee has to offer including; Jindalee boat ramp, Jindalee golf course, Jindalee Primary School, Centenary High School, parks, Jindalee Homemaker Centre, DFO, Piggy back caf&#xE9; and public transport.
PRIORITY:1
CLASS:PUBLIC
BEGIN:VALARM
TRIGGER:-PT10080M
ACTION:DISPLAY
DESCRIPTION:Reminder
END:VALARM
END:VEVENT
END:VCALENDAR
