BEGIN:VCALENDAR
VERSION:2.0
METHOD:PUBLISH
BEGIN:VEVENT
DTSTART:20200229T093000
DTEND:20200229T100000
LOCATION:29 Sawmill Circuit Riverhills, QLD 4074
TRANSP: OPAQUE
SEQUENCE:0
UID:
DTSTAMP:20200226T041527Z
SUMMARY:Home Open - MODERN FAMILY LIVING!
DESCRIPTION:Located in a beautiful new estate tucked away in Riverhills, this fresh, modern home has nothing left for you to do but to move in.

The home offers open plan living, a newly appointed kitchen with Caesar stone bench tops, stainless steel appliances and air-conditioning, and a dining room which adjoins the kitchen. Step out to the back patio and relax with the family while kids play in the large back garden. A large family living area provides that extra room for the modern family, giving ample room for entertaining family and friends all year round. 

There is a spacious master bedroom situated at the front of the house, with a built-in wardrobe and a good size modern en-suite.  The three remaining bedrooms all have built-in wardrobes and fans and are serviced by a generous main bathroom with a bath. Great for the growing family. 

The home is fully equipped with creature comforts such as:
&#x2022;	4 bedrooms, all with built in robes
&#x2022;	Master bedroom with en-suite
&#x2022;	Family bathroom
&#x2022;	Open plan living and dining
&#x2022;	Modern kitchen
&#x2022;	Single lock up garage
&#x2022;	Covered outdoor entertaining area
&#x2022;	Fully fenced, pet and family friendly back yard with water tank
&#x2022;	540 m2 block
&#x2022;       Study nook

Do not miss this rare opportunity to secure this property and start living the lifestyle you have been looking for.  Located just a short distance from the Riverhills Shopping Centre, Mt Ommaney Shopping Centre, Centenary Rowing Club, Middle Park Primary School, McLeod Golf Club and close to public transport.
PRIORITY:1
CLASS:PUBLIC
BEGIN:VALARM
TRIGGER:-PT10080M
ACTION:DISPLAY
DESCRIPTION:Reminder
END:VALARM
END:VEVENT
END:VCALENDAR
