BEGIN:VCALENDAR
VERSION:2.0
METHOD:PUBLISH
BEGIN:VEVENT
DTSTART:20200229T103000
DTEND:20200229T111500
LOCATION:9 Jarup Street Jindalee, QLD 4074
TRANSP: OPAQUE
SEQUENCE:0
UID:
DTSTAMP:20200226T041500Z
SUMMARY:Home Open - MODERN FAMILY LIVING!
DESCRIPTION:This home is a must if you&#x2019;re looking at getting into the property market. This beautiful property is set on an elevated, flood free, 587 sqm block and is located in the heart of Jindalee.

As soon as you walk through the front door you can see the quality of this home and how it has been looked after over the years.  The kitchen overlooks the outdoor area which is great for relaxing with family and friends while the kids have a swim in the pool.  There are 4 large bedrooms, three with built in robes. The main bathroom has a bath and separate shower. 

With multiple living areas there is plenty of room for the growing family so stop looking and start living as this property won&#x2019;t last.
  
This property features:
&#x2013; 4 bedrooms
&#x2013; In-ground pool
&#x2013; Air conditioner
&#x2013; Family living 
&#x2013; Open plan lounge/dining
&#x2013; Modern Kitchen
&#x2013; Security screens through out
&#x2013; Double lock up garage
&#x2013; Designed to capture maximum breezes and natural light
&#x2013; 587 sqm block
&#x2013; Fully fenced for pets and kids 

Located in the hub of Jindalee this home is close to everything including: the Jindalee boat ramp, Jindalee golf course, Jindalee Primary School, Centenary High School, Jindalee Homemaker Centre, DFO, Piggy Back Caf&#xE9; , Mount Ommaney Shopping Centre and close to public transport.
PRIORITY:1
CLASS:PUBLIC
BEGIN:VALARM
TRIGGER:-PT10080M
ACTION:DISPLAY
DESCRIPTION:Reminder
END:VALARM
END:VEVENT
END:VCALENDAR
