BEGIN:VCALENDAR
VERSION:2.0
METHOD:PUBLISH
BEGIN:VEVENT
DTSTART:20200229T113000
DTEND:20200229T121500
LOCATION:25 Capitol Drive Jindalee, QLD 4074
TRANSP: OPAQUE
SEQUENCE:0
UID:
DTSTAMP:20200226T041539Z
SUMMARY:Home Open - MODERN FAMILY LIVING!
DESCRIPTION:The essence of tranquillity. If it&#x2019;s not the leafy green landscape, it&#x2019;s the outdoor entertainment area overlooking the large in-ground pool.

Set on a 607 m2 block, this spacious four bedroom property oozes opportunity with dual living options.
This property uniquely offers a beautiful home ready for the family with multiple living areas through out. 

With timber floors throughout the top floor and a dual air-conditioning system, this warmly designed home has so much to offer its new owner.  The downstairs space is currently used as a studio apartment and is equipped with a kitchen and bathroom. 

The large tropical-style and serene back garden offers a quiet retreat from city life. The back yard is also fully fenced  for the kids and pets. 

Features

- Modern kitchen with gas cook top, oven and dishwasher.
- Rear deck perfect for entertaining or relaxing while keeping an eye on the kids in the pool.
- 2 bathrooms.
- Polished hardwood timber floors.
- Light and bright living room and kitchen.
- Reverse cycle air conditioning.
- 4 bedrooms with built-in robes.
- Dual living option.
- Double lock up garage.
- Electric hot water system.

Located in the hub of Jindalee, this home is close to everything including: the Jindalee boat ramp, Jindalee golf course, Jindalee Primary School, Centenary High School, Jindalee Homemaker Centre, DFO, Piggy Back Caf&#xE9; and close to public transport.
PRIORITY:1
CLASS:PUBLIC
BEGIN:VALARM
TRIGGER:-PT10080M
ACTION:DISPLAY
DESCRIPTION:Reminder
END:VALARM
END:VEVENT
END:VCALENDAR
